BEGIN:VCALENDAR
VERSION:2.0
PRODID:-//ViViCrema//NONSGML v1.0//EN
CALSCALE:GREGORIAN
METHOD:PUBLISH
X-WR-CALNAME:ViViCrema
X-ORIGINAL-URL:https://vivicrema.cremaonline.it
X-WR-CALDESC:Appuntamenti a Crema e dintorni
BEGIN:VEVENT
LOCATION:via XI Febbraio\, 32\, Crema\, Italia
DESCRIPTION:Dinosaur Live Show a Crema&nbsp\;è un’esperienza per tutta la famiglia\, unica nel suo genere in live tour in Italia.Spettacolo in Teatro presso l'oratorio di San Bernardino.&nbsp\;Vedrete dal vivo i dinosauri animatronici utilizzati nei più famosi film della preistoria.Biglietti:Dai 12\,00 ai 22\,00 euro. Fino a 2 anni gratuitoBiglietti online e/o in loco
DTSTART:1668866400
DTEND:1668898740
SUMMARY:DINOSAURI LIVE SHOW
URL;VALUE=URI:https://vivicrema.cremaonline.it:443/Evento/10276/2022-11-19/Crema/Teatro_Oratorio_di_San_Bernardino/DINOSAURI_LIVE_SHOW.html
ATTACH:\;FMTTYPE=image/jpeg:https://vivicrema.cremaonline.it:443/imgs/eventi/locandina_10276.jpg
DTSTAMP:20260423T110909Z
UID:69e9e1b5c6d43
END:VEVENT
END:VCALENDAR