BEGIN:VCALENDAR
VERSION:2.0
PRODID:-//ViViCrema//NONSGML v1.0//EN
CALSCALE:GREGORIAN
METHOD:PUBLISH
X-WR-CALNAME:ViViCrema
X-ORIGINAL-URL:https://vivicrema.cremaonline.it
X-WR-CALDESC:Appuntamenti a Crema e dintorni
BEGIN:VEVENT
LOCATION:via Roma\, 10\, Ripalta Nuova\, Italia
DESCRIPTION:In occasione del Giugno Ripaltese\, presso il giardino comunale di Ripalta Cremasca\, il Teatro San Domenico presenta PHIL COLLINS tribute.Ingresso libero
DTSTART:1687717800
DTEND:1687730340
SUMMARY:PHIL COLLINS tribute
URL;VALUE=URI:https://vivicrema.cremaonline.it:443/Evento/10778/2023-06-25/Ripalta_Nuova/Giardino_del_Comune/PHIL_COLLINS_tribute.html
ATTACH:\;FMTTYPE=image/jpeg:https://vivicrema.cremaonline.it:443/imgs/eventi/locandina_10778.jpg
DTSTAMP:20260421T211642Z
UID:69e7cd1ad20f4
END:VEVENT
END:VCALENDAR