BEGIN:VCALENDAR
VERSION:2.0
PRODID:-//ViViCrema//NONSGML v1.0//EN
CALSCALE:GREGORIAN
METHOD:PUBLISH
X-WR-CALNAME:ViViCrema
X-ORIGINAL-URL:https://vivicrema.cremaonline.it
X-WR-CALDESC:Appuntamenti a Crema e dintorni
BEGIN:VEVENT
LOCATION:via Verdelli\, 6\, Crema\, Italia
DESCRIPTION:Dal 23 settembre all’8 ottobre presso la&nbsp\;Galleria Arteatro a Crema si terrà la mostra&nbsp\;BRERA Contemporanea -&nbsp\;Il linguaggio Hieron&nbsp\;con il supporto di Andrea B. Del GuercioIl linguaggio Hieron sarà interpretato da Gabriele Artusio\, Mario Cerrone\, Giovan Battista Dasti\, Arianna De Stefani\, Rachele Frison\, Giacomo Giori\, Alfredo Romio\, Nicolas Steiner\, Lucrezia Zaffarano e Luming Zhang\, gruppo di artisti laureati appunto\, presso l’Accademia di Belle Arti di Brera.INAUGURAZIONE 23 SETTEMBRE\, ORE 17.00INGRESSO LIBEROInformazioni: tel. 037385418
DTSTART:1695420000
DTEND:1696716000
SUMMARY:Mostra: BRERA CONTEMPORANEA
URL;VALUE=URI:https://vivicrema.cremaonline.it:443/Evento/10959/2023-10-08/Crema/Arteatro__Fondazione_San_Domenico/Mostra_BRERA_CONTEMPORANEA.html
ATTACH:\;FMTTYPE=image/jpeg:https://vivicrema.cremaonline.it:443/imgs/eventi/locandina_10959.jpg
DTSTAMP:20260421T213601Z
UID:69e7d1a1abdd8
END:VEVENT
END:VCALENDAR