BEGIN:VCALENDAR
VERSION:2.0
PRODID:-//ViViCrema//NONSGML v1.0//EN
CALSCALE:GREGORIAN
METHOD:PUBLISH
X-WR-CALNAME:ViViCrema
X-ORIGINAL-URL:https://vivicrema.cremaonline.it
X-WR-CALDESC:Appuntamenti a Crema e dintorni
BEGIN:VEVENT
LOCATION:piazza Trento e Trieste\, Crema\, Italia
DESCRIPTION:Per la rassegna "Aperitivo in Musica"\, presso il Mercato Austroungarico Nyco Ferrari&nbsp\;presenterà il suo nuovo album dal titolo “Sono fatto così”\, uscito il 9 giugno.Info e prenotazione posto:Tel:&nbsp\;0373.85418
DTSTART:1696005000
DTEND:1696024740
SUMMARY:Aperitivo in Musica: NYCO FERRARI
URL;VALUE=URI:https://vivicrema.cremaonline.it:443/Evento/11006/2023-09-29/Crema/Mercato_Austroungarico/Aperitivo_in_Musica_NYCO_FERRARI.html
ATTACH:\;FMTTYPE=image/jpeg:https://vivicrema.cremaonline.it:443/imgs/eventi/locandina_11006.jpg
DTSTAMP:20260421T221639Z
UID:69e7db270dc6a
END:VEVENT
END:VCALENDAR