BEGIN:VCALENDAR
VERSION:2.0
PRODID:-//ViViCrema//NONSGML v1.0//EN
CALSCALE:GREGORIAN
METHOD:PUBLISH
X-WR-CALNAME:ViViCrema
X-ORIGINAL-URL:https://vivicrema.cremaonline.it
X-WR-CALDESC:Appuntamenti a Crema e dintorni
BEGIN:VEVENT
LOCATION:Piazzetta Winifred Terni De Gregorj\, 5\, Crema\, Italia
DESCRIPTION:Presso la CremArena a Crema si terrà il concerto di San Pantaleone 2024 : TRILLO POP &amp\; ROCKS a cura dell'Associazione Musicale Il Trillo con la partecipazione della Scuola di Danza di Chieve.Ingresso libero
DTSTART:1718564400
DTEND:1718575140
SUMMARY:Concerto: TRILLO POP & ROCKS
URL;VALUE=URI:https://vivicrema.cremaonline.it:443/Evento/11773/2024-06-16/Crema/CremArena/Concerto_TRILLO_POP__ROCKS.html
ATTACH:\;FMTTYPE=image/jpeg:https://vivicrema.cremaonline.it:443/imgs/eventi/locandina_11773.jpg
DTSTAMP:20260423T110529Z
UID:69e9e0d99f5ce
END:VEVENT
END:VCALENDAR