BEGIN:VCALENDAR
VERSION:2.0
PRODID:-//ViViCrema//NONSGML v1.0//EN
CALSCALE:GREGORIAN
METHOD:PUBLISH
X-WR-CALNAME:ViViCrema
X-ORIGINAL-URL:https://vivicrema.cremaonline.it
X-WR-CALDESC:Appuntamenti a Crema e dintorni
BEGIN:VEVENT
LOCATION:Piazzetta W. Terni de Gregorj\, 5\, Crema\, Italia
DESCRIPTION:Presso la Sala Pietro da Cemmo del Centro Culturale Sant’Agostino a Crema\, si terrà la conferenza&nbsp\;IDROGENO E TRANSIZIONE ENERGETICA .&nbsp\; Relatore: Stefano GALLIMercoledì riparte il ciclo di conferenze dell’associazione Ipàzia con un tema di grande attualità. L’irrefrenabile crescente sviluppo della nostra società\, e la sua conseguente continua richiesta di energia\, ci sta portando al confronto con i limiti naturali\, in termini di disponibilità delle risorse e di impatto ambientali. Politiche nazionali e sovranazionali\, rivolte a rendere questo sviluppo “sostenibile”\, indicano che una “transizione energetica” dal sistema attuale basato sulle risorse fossili ad altre è possibile e forniscono mezzi normativi e finanziari per la sua attuazione. L’idrogeno è stato indicato come uno degli elementi che possono fornire un contributo notevole a tale transizione. La presentazione cerca di fornire informazioni ed elementi di giudizio utili a capire se e come l’uso dell’idrogeno può contribuire a rendere realizzabile tale transizione energetica.Stefano GALLI Laureato in ingegneria chimica a Roma\, dagli anni ‘80 ha svolto presso i laboratori dell’ENEA Casaccia (Roma) attività di modellazione\, progettazione e sperimentazione di prototipi di apparecchiature e processi innovativi nell’ambito del settore energetico (pompe di calore ad assorbimento\, produzione di idrogeno\, celle a combustibile\, accumulo di idrogeno\, biogas\, digestione anaerobica\, batterie al litio). Negli anni ‘90 è stato il responsabile del progetto europeo SAPHYS (Stand-Alone Photovoltaic HYdrogen System) per la produzione autonoma di energia con accumulo mediante idrogeno\, primo impianto del genere in Italia. È stato tutor di laureandi e dottorandi ingegneri e ha al suo attivo articoli\, comunicazioni a convegni e brevetti.INGRESSO LIBERO&nbsp\;
DTSTART:1730318400
DTEND:1730329140
SUMMARY:Conferenza: IDROGENO E TRANSIZIONE ENERGETICA
URL;VALUE=URI:https://vivicrema.cremaonline.it:443/Evento/12106/2024-10-30/Crema/Centro_Culturale_SantAgostino/Conferenza_IDROGENO_E_TRANSIZIONE_ENERGETICA.html
ATTACH:\;FMTTYPE=image/jpeg:https://vivicrema.cremaonline.it:443/imgs/eventi/locandina_12106.jpg
DTSTAMP:20260423T110641Z
UID:69e9e12164395
END:VEVENT
END:VCALENDAR