BEGIN:VCALENDAR
VERSION:2.0
PRODID:-//ViViCrema//NONSGML v1.0//EN
CALSCALE:GREGORIAN
METHOD:PUBLISH
X-WR-CALNAME:ViViCrema
X-ORIGINAL-URL:https://vivicrema.cremaonline.it
X-WR-CALDESC:Appuntamenti a Crema e dintorni
BEGIN:VEVENT
LOCATION:via Indipendenza\, 40\, Crema\, Italia
DESCRIPTION:Presso il Multisala Portanova di Crema\, per l'appuntamento Cineforum del martedì sarà proiettato il film UNA NOTTE A NEW YORK\, regia di Christy Hall.Biglietto 5\,70€
DTSTART:1738699200
DTEND:1738709940
SUMMARY:Cineforum: UNA NOTTE A NEW YORK
URL;VALUE=URI:https://vivicrema.cremaonline.it:443/Evento/12341/2025-02-04/Crema/Multisala_Portanova/Cineforum_UNA_NOTTE_A_NEW_YORK.html
ATTACH:\;FMTTYPE=image/jpeg:https://vivicrema.cremaonline.it:443/imgs/eventi/locandina_12341.jpg
DTSTAMP:20260421T230624Z
UID:69e7e6d08333f
END:VEVENT
END:VCALENDAR