BEGIN:VCALENDAR
VERSION:2.0
PRODID:-//ViViCrema//NONSGML v1.0//EN
CALSCALE:GREGORIAN
METHOD:PUBLISH
X-WR-CALNAME:ViViCrema
X-ORIGINAL-URL:https://vivicrema.cremaonline.it
X-WR-CALDESC:Appuntamenti a Crema e dintorni
BEGIN:VEVENT
LOCATION:Via Civerchi\, 9\, Crema\, Italia
DESCRIPTION:Presso la Sala Consultazione della Biblioteca di Crema\, per la rassegna BOOK HUNTERS -&nbsp\;Alla ricerca di storie straordinarie\, si terràil l aboratorio creativo con Valentina e Michele:&nbsp\;&nbsp\;C’ERA UNA VOLTA… UNA CORONA DI CARTA!Per bambine e bambini a partire dai 6 anni.Come di consueto la partecipazione è gratuita con prenotazione obbligatoria.Per info e prenotazioni: salaragazzi@comune.crema.cr.it&nbsp\;tel:&nbsp\;0373/894494
DTSTART:1770912000
DTEND:1770937140
SUMMARY:Book hunters – LABORATORIO CREATIVO
URL;VALUE=URI:https://vivicrema.cremaonline.it:443/Evento/13172/2026-02-12/Crema/Biblioteca/Book_hunters_–_LABORATORIO_CREATIVO.html
ATTACH:\;FMTTYPE=image/jpeg:https://vivicrema.cremaonline.it:443/imgs/eventi/locandina_13172.jpg
DTSTAMP:20260419T145324Z
UID:69e4d044900b1
END:VEVENT
END:VCALENDAR