BEGIN:VCALENDAR
VERSION:2.0
PRODID:-//ViViCrema//NONSGML v1.0//EN
CALSCALE:GREGORIAN
METHOD:PUBLISH
X-WR-CALNAME:ViViCrema
X-ORIGINAL-URL:https://vivicrema.cremaonline.it
X-WR-CALDESC:Appuntamenti a Crema e dintorni
BEGIN:VEVENT
LOCATION:piazza Trento e Trieste\, 6\, Crema\, Italia
DESCRIPTION:Presso il Teatro San Domenico a Crema\, 20 anni di “This Is What You Are” e “Handful of Soul”La città di Crema si appresta ad ospitare nuovamente un grande cantautore e arrangiatore internazionale di origini siciliane.&nbsp\;Stiamo parlando di Mario Biondi che a maggio darà il via al suo nuovo tour per festeggiare i vent’anni del singolo “This is what you are”. E lo farà partendo da Crema e dal nostro teatro cittadino\, il San Domenico\, il 3 maggio alle ore 21\,00.Il tour “This is what you are 20th Anniversary”\, organizzato e prodotto da Friends&amp\;Partners\, visiterà i teatri delle più importanti città italiane\, proseguirà con concerti in estate e culminerà in uno speciale evento live previsto in autunno che andrà a celebrare la ventennale uscita dell’album “Handful of Soul” che sancì la definitiva consacrazione della carriera internazionale di Mario Biondi.Biglietti:Acquista onlineInformazioni:tel. 0373.85418
DTSTART:1777834800
DTEND:1777845540
SUMMARY:Concerto: MARIO BIONDI - Data zero Tour
URL;VALUE=URI:https://vivicrema.cremaonline.it:443/Evento/13303/2026-05-03/Crema/Teatro_San_Domenico/Concerto_MARIO_BIONDI__Data_zero_Tour.html
ATTACH:\;FMTTYPE=image/jpeg:https://vivicrema.cremaonline.it:443/imgs/eventi/locandina_13303.jpg
DTSTAMP:20260423T125234Z
UID:69e9f9f29c1eb
END:VEVENT
END:VCALENDAR