BEGIN:VCALENDAR
VERSION:2.0
PRODID:-//ViViCrema//NONSGML v1.0//EN
CALSCALE:GREGORIAN
METHOD:PUBLISH
X-WR-CALNAME:ViViCrema
X-ORIGINAL-URL:https://vivicrema.cremaonline.it
X-WR-CALDESC:Appuntamenti a Crema e dintorni
BEGIN:VEVENT
LOCATION:via Mazzini\, 48\, Crema\, Italia
DESCRIPTION:Martedì 28 aprile\, alle ore 21\, presso la Sala superiore della Libreria Mondadori di Crema ci sarà la presentazione del volume 'Adolescenti In-Dipendenti - educare tra vecchie e nuove dipendenze' a cura di Claudia D' Antoni e Michele Gennuso. Ed. AVEPresenti alla serata ci saranno il dott. Michele Gennuso e il dott. Giorgio Cerizza.Adolescenti In - Dipendenti è un volume che analizza il fenomeno delle dipendenze in adolescenza\, indagando le ragioni per cui i giovani risultano più esposti rispetto agli adulti e proponendo un cambio di prospettiva educativa: rendere ragazzi e ragazze protagonisti consapevoli nella comprensione dei propri comportamenti e dei bisogni che li alimentano. Il libro invita educatori\, insegnanti e genitori a costruire con loro nuove modalità di espressione e relazione\, aiutandoli a trovare un equilibrio tra il desiderio di sentirsi vivi e la capacità di vivere in modo autentico.Il testo raccoglie i contributi di Giorgio Cerizza\, Maria Di Mento\, Michele Gennuso e Maria Grazia Vergari\, offrendo una riflessione corale e multidisciplinare sul tema.L' ingresso è libero e gratuitoinfo:mondadoricrema@gmail.com0373.80379
DTSTART:1777402800
DTEND:1777413540
SUMMARY:Presentazione del libro: Adolescenti In - Dipendenti
URL;VALUE=URI:https://vivicrema.cremaonline.it:443/Evento/13351/2026-04-28/Crema/Mondadori_Bookstore/Presentazione_del_libro_Adolescenti_In__Dipendenti.html
ATTACH:\;FMTTYPE=image/jpeg:https://vivicrema.cremaonline.it:443/imgs/eventi/locandina_13351.jpg
DTSTAMP:20260422T185350Z
UID:69e8fd1ecbd21
END:VEVENT
END:VCALENDAR