BEGIN:VCALENDAR
VERSION:2.0
PRODID:-//ViViCrema//NONSGML v1.0//EN
CALSCALE:GREGORIAN
METHOD:PUBLISH
X-WR-CALNAME:ViViCrema
X-ORIGINAL-URL:https://vivicrema.cremaonline.it
X-WR-CALDESC:Appuntamenti a Crema e dintorni
BEGIN:VEVENT
LOCATION:Piazza d'Armi\, Pizzighettone\, Italia
DESCRIPTION:Calici tra le Mura non è una semplice fiera del vino.&nbsp\;È un evento unico\, un’esperienza che nasce dall’incontro tra grande enologia\, eccellenze gastronomiche e una location straordinaria.Passeggiando all’interno delle antiche mura di Pizzighettone\, una delle location più suggestive della Lombardia\, vivrai un vero e proprio tour tra gusto\, storia e atmosfera\, dove ogni calice accompagna il visitatore in un viaggio sensoriale senza tempo.&nbsp\;Un evento pensato per chi ama il vino\, per chi cerca qualità e per chi desidera trascorrere una giornata speciale in un contesto affascinante e fuori dal comune.&nbsp\;&nbsp\;COSA TROVERAI&nbsp\;80 produttori selezionati tra aziende vinicole ed eccellenze gastronomiche&nbsp\;&nbsp\;Oltre 700 etichette di vini e distillati da tutta Italia&nbsp\;&nbsp\;Acquisto diretto dai produttori&nbsp\;Specialità enogastronomiche in abbinamento&nbsp\;&nbsp\;Area Street Food per tutti i gusti&nbsp\;&nbsp\;Area gioco e Baby Parking per i più piccoli&nbsp\;&nbsp\;Area sosta camper gratuita&nbsp\;&nbsp\;Parcheggi gratuiti&nbsp\;&nbsp\;INGRESSO &amp\; DEGUSTAZIONI&nbsp\;&nbsp\;L’ingresso all’evento è libero e gratuito&nbsp\;&nbsp\;Per degustare le eccellenze presenti è possibile acquistare il kit degustazione\, che comprende:&nbsp\;Calice ufficiale&nbsp\;&nbsp\;Pettorina omaggio&nbsp\;&nbsp\;Degustazioni libere e senza limiti di oltre 700 vini presenti&nbsp\;&nbsp\;SUPER PROMO SPECIALE&nbsp\;&nbsp\;Primi 500 kit a soli 8€ Prezzi kit degustazione:&nbsp\;* 10€ in prevendita&nbsp\;&nbsp\;* 15€ direttamente in cassa&nbsp\;&nbsp\;Orari:&nbsp\;Sabato 25 aprile&nbsp\; 11:00 – 21:00&nbsp\;&nbsp\;Domenica 26 aprile&nbsp\; 11:00 – 19:00&nbsp\;Info:tel. 3248615833 (anche WhatsApp)
DTSTART:1777104000
DTEND:1777240740
SUMMARY:CALICI TRA LE MURA 2026
URL;VALUE=URI:https://vivicrema.cremaonline.it:443/Evento/13352/2026-04-26/Pizzighettone/Casematte_delle_Antiche_Mura/CALICI_TRA_LE_MURA_2026.html
ATTACH:\;FMTTYPE=image/jpeg:https://vivicrema.cremaonline.it:443/imgs/eventi/locandina_13352.jpg
DTSTAMP:20260423T110529Z
UID:69e9e0d9a32f1
END:VEVENT
END:VCALENDAR