BEGIN:VCALENDAR
VERSION:2.0
PRODID:-//ViViCrema//NONSGML v1.0//EN
CALSCALE:GREGORIAN
METHOD:PUBLISH
X-WR-CALNAME:ViViCrema
X-ORIGINAL-URL:https://vivicrema.cremaonline.it
X-WR-CALDESC:Appuntamenti a Crema e dintorni
BEGIN:VEVENT
LOCATION:via Olzano\, 4\, Soresina\, Italia
DESCRIPTION:Presso l'Arci Soresina La Baracca di Olzano : AMARA TERRA TRIO in concerto con canti sulla resistenza e folk rigenerato.Trio formatosi nel 2018 grazie alla passione per le musiche di tradizione orale\, per il canto popolare e tutto il folk. Con Melissa Fontana (voce) Thea Tiramani (voce\, fisarmonica\, tastiera) Maurizio Corda (cura saz\, ukulele\,percussioni\,voce).Ingresso gratuito con tessera Arci (e' possibile tesserarsi in loco)
DTSTART:1777145400
DTEND:1777154340
SUMMARY:Concerto: AMARA TERRA TRIO
URL;VALUE=URI:https://vivicrema.cremaonline.it:443/Evento/13353/2026-04-25/Soresina/Arci/Concerto_AMARA_TERRA_TRIO.html
ATTACH:\;FMTTYPE=image/jpeg:https://vivicrema.cremaonline.it:443/imgs/eventi/locandina_13353.jpg
DTSTAMP:20260424T163913Z
UID:69eb809110364
END:VEVENT
END:VCALENDAR