BEGIN:VCALENDAR
VERSION:2.0
PRODID:-//ViViCrema//NONSGML v1.0//EN
CALSCALE:GREGORIAN
METHOD:PUBLISH
X-WR-CALNAME:ViViCrema
X-ORIGINAL-URL:https://vivicrema.cremaonline.it
X-WR-CALDESC:Appuntamenti a Crema e dintorni
BEGIN:VEVENT
LOCATION:via Guglielmo Marconi\, Soncino\, Italia
DESCRIPTION:Nello stupendo scenario della Rocca di Soncino\, si svolgerà SONCINO FANTASY 2026\, un evento che fa rivivere ai suoi spettatori le più famose saghe fantasy che hanno accompagnato l’infanzia&nbsp\;e l’adolescenza di diverse generazioni.&nbsp\;Durante tutta la giornata presenti banchi e botteghe ispirati alle più famose saghe fantasy che hanno accompagnato l’infanzia di diverse generazioni\, esibizioni di&nbsp\;falconeria\, animazione per bambini\, laboratori\, accampamenti medioevali all’interno della Rocca\,&nbsp\;spettacoli di giullari e danzatrici\,&nbsp\;musici itineranti e tanto altro!&nbsp\;Sempre presente la zona ristoro con succulente degustazioni.Soncino Fantasy è realizzato dall’Associazione Castrum Soncini in collaborazione con la Coop. Il Borgo e con il patrocinio del Comune di Soncino.Durante tutta la giornata presenti banchi e botteghe ispirati alle più famose saghe fantasy che hanno accompagnato l’infanzia di diverse generazioni. Potrete assistere ad esibizioni di falconeria e spettacoli per tutte le età\, animazione per bambini\, musici e danzatrici\, laboratori\, accampamenti e tanto altro!Biglietti&nbsp\; disponibili online o direttamente all'ingresso.&nbsp\;Info: tel: 0374-83675
DTSTART:1777104000
DTEND:1777154340
SUMMARY:SONCINO FANTASY 2026
URL;VALUE=URI:https://vivicrema.cremaonline.it:443/Evento/13357/2026-04-25/Soncino/Rocca_Sforzesca/SONCINO_FANTASY_2026.html
ATTACH:\;FMTTYPE=image/jpeg:https://vivicrema.cremaonline.it:443/imgs/eventi/locandina_13357.jpg
DTSTAMP:20260424T164435Z
UID:69eb81d3c200d
END:VEVENT
END:VCALENDAR