BEGIN:VCALENDAR
VERSION:2.0
PRODID:-//ViViCrema//NONSGML v1.0//EN
CALSCALE:GREGORIAN
METHOD:PUBLISH
X-WR-CALNAME:ViViCrema
X-ORIGINAL-URL:https://vivicrema.cremaonline.it
X-WR-CALDESC:Appuntamenti a Crema e dintorni
BEGIN:VEVENT
LOCATION:viale Santa Maria della Croce\, 16\, Crema\, Italia
DESCRIPTION:Presso la Colonia Seriana a Santa Maria\, in occasione della 4° Festa della Sinistra si terrà il concerto di Speak In Tongues + Lando.
DTSTART:1339270200
DTEND:1339279140
SUMMARY:SPEAK IN TONGUES + LANDO live
URL;VALUE=URI:https://vivicrema.cremaonline.it:443/Evento/2010/2012-06-09/Crema/Colonia_Seriana/SPEAK_IN_TONGUES__LANDO_live.html
DTSTAMP:20260422T110910Z
UID:69e89036a4c91
END:VEVENT
END:VCALENDAR