BEGIN:VCALENDAR
VERSION:2.0
PRODID:-//ViViCrema//NONSGML v1.0//EN
CALSCALE:GREGORIAN
METHOD:PUBLISH
X-WR-CALNAME:ViViCrema
X-ORIGINAL-URL:https://vivicrema.cremaonline.it
X-WR-CALDESC:Appuntamenti a Crema e dintorni
BEGIN:VEVENT
LOCATION:via Guglielmo Marconi\, Soncino\, Italia
DESCRIPTION:Una serata alla riscoperta di antiche leggende\, suggestivi personaggi\, maestosi monumenti e buona tavolaAntiche leggende\, suggestivi personaggi\, maestosi monumenti e buona tavola. All'interno della Rocca sforzesca spettacoli di magia\, giocoleria\, animazioni suggestive e spettacoli pirotecnici. Dopo il successo degli anni scorsi con “Halloween: la notte del mistero”\, anche quest’anno l’Associazione Castrum Soncini in collaborazione con la Cooperativa Il Borgo organizza per il 31 ottobre 2012 un itinerario dove gastronomia\, mistero\, storia\, leggende e un pizzico di paura saranno gli ingredienti basilari.Tre sono le proposte offerte:1. Cena presso locali tipici a partire dalle 19.30 con menù a tema e specialità soncinesi + ingresso all’interno della Rocca sforzesca con spettacoli di magia\, giocoleria e animazioni suggestive. Saranno inoltre presenti laboratori e trucchi per i più piccoli.Il costo complessivo della proposta è di €. 30\,00 (€. 20\,00 per bambini dai 6 ai 12 anni).(solo su prenotazione con pagamento anticipato entro il 28 ottobre)2. Degustazione (2 tranci di pizza\, dolce tipico\, acqua o bibita) presso l’Atelier del Buon Gusto + ingresso all’interno della Rocca sforzesca con spettacoli di magia\, giocoleria e animazioni suggestive. Saranno inoltre presenti laboratori e trucchi per i più piccoli.Il costo complessivo della proposta è di €. 15\,00 (€. 10\,00 per bambini dai 6 ai 12 anni).(solo su prenotazione con pagamento anticipato entro il 28 ottobre)3. Ingresso partire dalle 18.00 all’interno della Rocca sforzesca con spettacoli di magia\, giocoleria e animazioni suggestive. Saranno inoltre presenti laboratori e trucchi per i più piccoli.Il costo della proposta è di €. 6\,00 (€. 4\,00 per bambini dai 6 ai 12 anni).• Tra i gruppi che animeranno la serata saranno presenti: Magicantus che coinvolgerà e stupirà grandi e piccini rievocando le suggestive atmosfere del mitico Mago Merlino\, del saggio Re Artù e degli eroici Cavalieri della Tavola Rotonda. Vagus Animis con suggestive musiche medioevali. Iannà Tampè con uno spettacolo di magia e fuochi che concluderà la serata.• Le persone mascherate potranno usufruire del biglietto ridotto.
DTSTART:1351702800
DTEND:1351724340
SUMMARY:HALLOWEEN LA NOTTE NEL MISTERO
URL;VALUE=URI:https://vivicrema.cremaonline.it:443/Evento/2231/2012-10-31/Soncino/Rocca_Sforzesca/HALLOWEEN_LA_NOTTE_NEL_MISTERO.html
ATTACH:\;FMTTYPE=image/jpeg:https://vivicrema.cremaonline.it:443/imgs/eventi/locandina_2231.jpg
DTSTAMP:20260419T152036Z
UID:69e4d6a451544
END:VEVENT
END:VCALENDAR