BEGIN:VCALENDAR
VERSION:2.0
PRODID:-//ViViCrema//NONSGML v1.0//EN
CALSCALE:GREGORIAN
METHOD:PUBLISH
X-WR-CALNAME:ViViCrema
X-ORIGINAL-URL:https://vivicrema.cremaonline.it
X-WR-CALDESC:Appuntamenti a Crema e dintorni
BEGIN:VEVENT
LOCATION:via Municipio\, 1\, Pizzighettone\, Italia
DESCRIPTION:Una ricca vetrina sul Natale con tante idee su come addobbare la casa e la tavola per le festività e per i regali da mettere sotto l'albero ma anche una ghiotta occasione per la preparazione dei menù delle feste e le strenne gastronomiche da regalare e regalarsi. Partecipano hobbisti\, A corollario intrattenimenti e laboratori creativi.Info: 0372-7382224
DTSTART:1353711600
DTEND:1353798000
SUMMARY:Mostra mercato: 4^ NATALE ...IDEE REGALO
URL;VALUE=URI:https://vivicrema.cremaonline.it:443/Evento/2323/2012-11-25/Pizzighettone/Centro_storico/Mostra_mercato_4_NATALE_IDEE_REGALO.html
ATTACH:\;FMTTYPE=image/jpeg:https://vivicrema.cremaonline.it:443/imgs/eventi/locandina_2323.jpg
DTSTAMP:20260423T150221Z
UID:69ea185da04a5
END:VEVENT
END:VCALENDAR