BEGIN:VCALENDAR
VERSION:2.0
PRODID:-//ViViCrema//NONSGML v1.0//EN
CALSCALE:GREGORIAN
METHOD:PUBLISH
X-WR-CALNAME:ViViCrema
X-ORIGINAL-URL:https://vivicrema.cremaonline.it
X-WR-CALDESC:Appuntamenti a Crema e dintorni
BEGIN:VEVENT
LOCATION:Piazza Giovanni XXIII\, Crema\, Italia
DESCRIPTION:Per tutti i weekend di giugno Confcommercio organizza “Un salotto per Crema”. In piazza Giovanni XXIII animazioni\, esposizioni e live music il sabato dalle ore 18 alle 1 e la domenica dalle ore 11 alle 24.
DTSTART:1435356000
DTEND:1435442400
SUMMARY:Un salotto per Crema
URL;VALUE=URI:https://vivicrema.cremaonline.it:443/Evento/4080/2015-06-28/Crema/Piazza_Giovanni_XXIII/Un_salotto_per_Crema.html
ATTACH:\;FMTTYPE=image/jpeg:https://vivicrema.cremaonline.it:443/imgs/eventi/locandina_4080.jpg
DTSTAMP:20260423T110446Z
UID:69e9e0aed96e9
END:VEVENT
END:VCALENDAR