BEGIN:VCALENDAR
VERSION:2.0
PRODID:-//ViViCrema//NONSGML v1.0//EN
CALSCALE:GREGORIAN
METHOD:PUBLISH
X-WR-CALNAME:ViViCrema
X-ORIGINAL-URL:https://vivicrema.cremaonline.it
X-WR-CALDESC:Appuntamenti a Crema e dintorni
BEGIN:VEVENT
LOCATION:Piazza Trento e Trieste\, Crema\, Italia
DESCRIPTION:MATTHEW LEEMatthew Lee - piano e voceFrank Carrera - chitarraJJ Latini - bassoMatteo Pierpaoli - BatteriaUno straordinario performer\, pianista e cantante innamorato del rock'n'roll\, che ha fatto propri gli insegnamenti dei grandi maestri del genere. Un vero talento\, un fenomeno degli 88 tasti.Nonostante la giovane età ha già sulle spalle circa 1000 concerti. Matthew Lee infatti ha suonato in tutta Europa: Italia\, Belgio\, Inghilterra\, Francia\, Svizzera\, Slovenia\, Olanda\, Germania\, e si è inoltre esibito negli Stati Uniti ed in Africa.La stampa internazionale gli ha dedicato importanti recensioni definendolo “the genius of rock’n’roll”. Oltre a essere uno straordinario interprete\, si sta facendo apprezzare anche come autore. E’ da poco uscito il suo nuovo disco nel quale ha collaborato alla scrittura di brani inediti con importanti produttori e autori del panorama internazionale.Recentemente ha firmato un importante contratto discografico con la storica etichetta Carosello Records\, pronta a scommettere su di lui per lanciarlo definitivamente al grande pubblico.E' notizia di questi giorni la sua vittoria nella categoria giovani del prestigioso “Coca Cola Summer Festival”.a seguire CENA A BUFFETSALMONE MARINATO ALLE ERBE AROMATICHE SALMONE MARINATO AL LIME SU SONGINO E MELOGRANOPOLLO AI SEMI DI CORIANDOLO E SENAPE E SALSA DI SOIA RISO DAY AND NIGHT CON BRUNOISE DI VERDURE E SPECK DEL TRENTINOCOTECHINO NOSTRANOE LETICCHIESTUZZICHERIE DOLCEVINOACQUA
DTSTART:1451588400
DTEND:1451602740
SUMMARY:CAPODANNO A TEATRO! Concerto + cena a buffet
URL;VALUE=URI:https://vivicrema.cremaonline.it:443/Evento/4547/2015-12-31/Crema/Teatro_San_Domenico/CAPODANNO_A_TEATRO_Concerto__cena_a_buffet.html
ATTACH:\;FMTTYPE=image/jpeg:https://scontent.xx.fbcdn.net/hphotos-xfl1/t31.0-8/s720x720/12303926_788057084637909_2173538250202382961_o.jpg
DTSTAMP:20260422T110645Z
UID:69e88fa501732
END:VEVENT
END:VCALENDAR