BEGIN:VCALENDAR
VERSION:2.0
PRODID:-//ViViCrema//NONSGML v1.0//EN
CALSCALE:GREGORIAN
METHOD:PUBLISH
X-WR-CALNAME:ViViCrema
X-ORIGINAL-URL:https://vivicrema.cremaonline.it
X-WR-CALDESC:Appuntamenti a Crema e dintorni
BEGIN:VEVENT
LOCATION:Piazzetta Winifred Terni De Gregorj\, 5\, Crema\, Italia
DESCRIPTION:Domenica 11 dicembre\, ore 16:30 nella Sala Pietro da Cemmo si terrà il Concerto di Natale a cura dell'Associazione il Trillo.
DTSTART:1481470200
DTEND:1481497140
SUMMARY:Crema e la magia del Natale – CONCERTO
URL;VALUE=URI:https://vivicrema.cremaonline.it:443/Evento/5490/2016-12-11/Crema/Museo_Civico/Crema_e_la_magia_del_Natale_–_CONCERTO.html
ATTACH:\;FMTTYPE=image/jpeg:https://vivicrema.cremaonline.it:443/imgs/eventi/locandina_5490.jpg
DTSTAMP:20260423T110514Z
UID:69e9e0ca3119d
END:VEVENT
END:VCALENDAR