BEGIN:VCALENDAR
VERSION:2.0
PRODID:-//ViViCrema//NONSGML v1.0//EN
CALSCALE:GREGORIAN
METHOD:PUBLISH
X-WR-CALNAME:ViViCrema
X-ORIGINAL-URL:https://vivicrema.cremaonline.it
X-WR-CALDESC:Appuntamenti a Crema e dintorni
BEGIN:VEVENT
LOCATION:Piazza Trento e Trieste\, 6\, Crema\, Italia
DESCRIPTION:Presso il Teatro San Domenico\, per la rassegna Crema in Scena\, serata di cabaret con la Compagnia NO#stranicon lo spettacolo "E' un lusso che non ci possiamo permettere".Andrea Bertesago\, Mattia Soffientini\, Danilo Manzo\, Michele Crotti\, Sara ParatiMUSICISTI: Gian Antonio Fusar Poli\, chitarra acustica\, Marco Cortesini\, fisarmonicaSCENOGRAFIA: Sonia Danzi\, Irene TamagniSpecial guest: The ScrafigeBiglietti:Posto unico 10€Info:340.3380251 - 347.0776981
DTSTART:1556305200
DTEND:1556315940
SUMMARY:Cabaret: E' UN LUSSO CHE NON CI POSSIAMO PERMETTERE - NO#strani
URL;VALUE=URI:https://vivicrema.cremaonline.it:443/Evento/7683/2019-04-26/Crema/Teatro_San_Domenico/Cabaret_E_UN_LUSSO_CHE_NON_CI_POSSIAMO_PERMETTERE__NOstrani.html
ATTACH:\;FMTTYPE=image/jpeg:https://vivicrema.cremaonline.it:443/imgs/eventi/locandina_7683.jpg
DTSTAMP:20260422T110408Z
UID:69e88f083ef6b
END:VEVENT
END:VCALENDAR