BEGIN:VCALENDAR
VERSION:2.0
PRODID:-//ViViCrema//NONSGML v1.0//EN
CALSCALE:GREGORIAN
METHOD:PUBLISH
X-WR-CALNAME:ViViCrema
X-ORIGINAL-URL:https://vivicrema.cremaonline.it
X-WR-CALDESC:Appuntamenti a Crema e dintorni
BEGIN:VEVENT
LOCATION:piazza Novello\, 8\, Codogno\, Italia
DESCRIPTION:Inaugurazione della nuova avventura del Laboratorio Basulon!
DTSTART:1603404000
DTEND:1603490340
SUMMARY:INAUGURAZIONE
URL;VALUE=URI:https://vivicrema.cremaonline.it:443/Evento/9074/2020-10-23/Codogno/Laboratorio_Basulon/INAUGURAZIONE.html
ATTACH:\;FMTTYPE=image/jpeg:https://vivicrema.cremaonline.it:443/imgs/eventi/locandina_9074.jpg
DTSTAMP:20260422T110337Z
UID:69e88ee95f885
END:VEVENT
END:VCALENDAR